BEGIN:VCALENDAR
VERSION:2.0
PRODID:-//Family Solutions Counseling - ECPv6.15.20//NONSGML v1.0//EN
CALSCALE:GREGORIAN
METHOD:PUBLISH
X-WR-CALNAME:Family Solutions Counseling
X-ORIGINAL-URL:https://familysolutionsok.com
X-WR-CALDESC:Events for Family Solutions Counseling
REFRESH-INTERVAL;VALUE=DURATION:PT1H
X-Robots-Tag:noindex
X-PUBLISHED-TTL:PT1H
BEGIN:VTIMEZONE
TZID:America/Chicago
BEGIN:DAYLIGHT
TZOFFSETFROM:-0600
TZOFFSETTO:-0500
TZNAME:CDT
DTSTART:20220313T080000
END:DAYLIGHT
BEGIN:STANDARD
TZOFFSETFROM:-0500
TZOFFSETTO:-0600
TZNAME:CST
DTSTART:20221106T070000
END:STANDARD
BEGIN:DAYLIGHT
TZOFFSETFROM:-0600
TZOFFSETTO:-0500
TZNAME:CDT
DTSTART:20230312T080000
END:DAYLIGHT
BEGIN:STANDARD
TZOFFSETFROM:-0500
TZOFFSETTO:-0600
TZNAME:CST
DTSTART:20231105T070000
END:STANDARD
BEGIN:DAYLIGHT
TZOFFSETFROM:-0600
TZOFFSETTO:-0500
TZNAME:CDT
DTSTART:20240310T080000
END:DAYLIGHT
BEGIN:STANDARD
TZOFFSETFROM:-0500
TZOFFSETTO:-0600
TZNAME:CST
DTSTART:20241103T070000
END:STANDARD
END:VTIMEZONE
BEGIN:VEVENT
DTSTART;TZID=America/Chicago:20230918T173000
DTEND;TZID=America/Chicago:20230918T173000
DTSTAMP:20260424T081749
CREATED:20230821T201641Z
LAST-MODIFIED:20230821T201820Z
UID:4803-1695058200-1695058200@familysolutionsok.com
SUMMARY:Unbroken – Betrayal Trauma Recovery Group for Women
DESCRIPTION:Starting September 18 th \, 2023 at 5:30pm \nUn-Broken is an 8-session recovery group for women (18 years or older) who have been heavily impacted by the infidelity and betrayal of their unfaithful partners. \nWhen: Mondays (in-office) from 5:30pm to 6:30pm \nWhere: Group will meet in-office. (Click here for our office location/directions) \nMaterials: Each group member will need to purchase a copy of Facing Heartbreak by Stefanie Carnes. \nLead Facilitator: Mary Scruggs\, LMFT\, CPTT \nCost: $520.00 – This group is sold as a whole. Payment plans available\, please contact the front office at 405-242-5305 to inquire. \nClick Here to Register 
URL:https://familysolutionsok.com/event/unbroken-betrayal-trauma-recovery-group-for-women-2/
LOCATION:Family Solutions Counseling\, 10400 N. Vineyard Blvd.\, Suite A\, Oklahoma City\, OK\, 73120\, United States
CATEGORIES:Un-Broken Groups
END:VEVENT
END:VCALENDAR